BEGIN:VCALENDAR
VERSION:2.0
PRODID:-//TYPO3/NONSGML Calendarize//EN
BEGIN:VEVENT
UID:calendarize-tag-der-arbeit-demo-und-kundgebung
DTSTAMP:20260420T153118Z
DTSTART:20260501T093000Z
SUMMARY:Tag der Arbeit – Demo und Kundgebung
DESCRIPTION:Statt den Sozialstaat zu stärken\, stellt die Merz-Regierung 
 Errungenschaften infrage: längere Arbeitszeiten\, mehr Druck auf Beschäf
 tigte\, weniger Absicherung. Seit mehr als 150 Jahren kämpfen Gewerkschaf
 ten für die Rechte von Beschäftigten (mehr zur Geschichte des ersten Mai
  und zur Geschichte des DGB). Wir setzen uns mit den Gewerkschaften ein fü
 r gute Arbeit\, für soziale Sicherheit und für eine gerechte Zukunft! Ko
 mm mit zu DGB-Demo und Kundgebung in Köln:  \nTreffpunkt der GRÜNEN Wan
 n? 11:30 Uhr Wo? Ecke Venloer Str./Hans-Böckler-Platz vor der Unterführu
 ng\nDemo Wann? 12:00 Uhr Wo? Vom Hans-Böckler-Platz zum Heumarkt  \nKun
 dgebung Wann? 13:00 Uhr Wo? Heumarkt
X-ALT-DESC;FMTTYPE=text/html:<p class="default">Statt den Sozialstaat zu s
 tärken\, stellt die Merz-Regierung Errungenschaften infrage: längere Arb
 eitszeiten\, mehr Druck auf Beschäftigte\, weniger Absicherung. Seit mehr
  als 150 Jahren kämpfen Gewerkschaften für die Rechte von Beschäftigten
  (mehr zur <a href="https://www.dgb.de/mitmachen/erster-mai/geschichte-des
 -ersten-mai/" title="https://www.dgb.de/mitmachen/erster-mai/geschichte-de
 s-ersten-mai/">Geschichte des ersten Mai</a> und zur <a href="https://www.
 dgb.de/der-dgb/geschichte-des-dgb/" title="https://www.dgb.de/der-dgb/gesc
 hichte-des-dgb/">Geschichte des DGB</a>). Wir setzen uns mit den Gewerksch
 aften ein für gute Arbeit\, für soziale Sicherheit und für eine gerecht
 e Zukunft! Komm mit zu DGB-Demo und Kundgebung in Köln:<br /> &nbsp\;</p>
 \n<p class="default"><strong>Treffpunkt der GRÜNEN<br /> Wann?</strong> 1
 1:30 Uhr<br /> <strong>Wo?</strong> Ecke Venloer Str./Hans-Böckler-Platz 
 vor der Unterführung</p>\n<p class="default"><strong>Demo</strong><br /> 
 <strong>Wann?&nbsp\;</strong>12:00 Uhr<br /> <strong>Wo?</strong> Vom Hans
 -Böckler-Platz zum Heumarkt<br /> &nbsp\;</p>\n<p class="default"><strong
 >Kundgebung<br /> Wann?</strong> 13:00 Uhr<br /> <strong>Wo?</strong> Heum
 arkt</p>
LOCATION:
END:VEVENT
END:VCALENDAR
